BEGIN:VCALENDAR
VERSION:2.0
METHOD:PUBLISH
BEGIN:VEVENT
UID:WILD_APRICOT_EVENT_3669763_SESSION_1
DTSTART:20201210T130000Z
DTEND:20201213T130000Z
SUMMARY:The Shannons Festival of Motorsport  - Sandown 11-13 December
LOCATION:Sandown International Raceway
DESCRIPTION:https://e30racing.com.au/event-3669763\n\n\nShannons - Motorsport Australia Festival\n     \nSandown International Raceway\n    \n\n      \n11-13 DECEMBER 2020\n    Great news for the E30 Racing Club - we have been invited by the MG Car Club to run a grid at the Shannons Festival of Motorsport\, which has been rescheduled to December 11-13 at Sandown.\n    Paddock Map\nSchedule - Friday 11 December 2020\n   Schedule - Saturday 12 - Sunday 13 December 2020\n   Venue Access Instructions\n    \n\n    Supplementary Regulations\n    Enter Friday practice and the racing weekend via the Motorsport Australia portal.\n    \n   Costs:\n\n        * Friday Practice:  $180\n\n          * Racing weekend: $400\n\n    Click here for further details as they become available.\n    \n\n    \n\n    \n\n 
DTSTAMP:20260424T171644Z
END:VEVENT
END:VCALENDAR
