BEGIN:VCALENDAR
VERSION:2.0
METHOD:PUBLISH
BEGIN:VEVENT
UID:WILD_APRICOT_EVENT_3669757_SESSION_1
DTSTART:20200529T143000Z
DTEND:20200531T143000Z
SUMMARY:2020 Garagistic BMW Driver's Cup - Round 3 - CANCELLED
LOCATION:The Bend Motorsport Park
DESCRIPTION:https://e30racing.com.au/event-3669757\n\n\n2020 Garagistic BMW Driver's Cup - Round 3\n     \nThe Bend Motorsport Park\n    \n\n      \n30-31 MAY 2020\n    \nCANCELLED\n    \n\n    \n\n 
DTSTAMP:20260424T171450Z
END:VEVENT
END:VCALENDAR
