BEGIN:VCALENDAR
VERSION:2.0
METHOD:PUBLISH
BEGIN:VEVENT
UID:WILD_APRICOT_EVENT_3669748_SESSION_1
DTSTART:20200327T130000Z
DTEND:20200329T130000Z
SUMMARY:2020 Garagistic BMW Driver's Cup - Round 2 - CANCELLED
LOCATION:Winton Motor Raceway
DESCRIPTION:https://e30racing.com.au/event-3669748\n\n\n2020 Garagistic BMW Driver's Cup - Round 2\n     \nWinton Motor Raceway\n    \n\n      \n28-29 MARCH 2020\n    \nCANCELLED\n    Round 1 entrants will have already received a pre-prepared entry form from VSCRC.\n    Other entrants may enter using the entry form attached:\n    Supplementary Regulations and Entry Form\n    Please remember to read the Supp Regs and all E30 Racing Eligibility documentation prior to the event.\n    2020 Decal Placement Requirements - please advise if you required Garagistic and/or Yokohama decals.\n    \n\n    \n\n 
DTSTAMP:20260424T171459Z
END:VEVENT
END:VCALENDAR
