BEGIN:VCALENDAR
VERSION:2.0
METHOD:PUBLISH
BEGIN:VEVENT
UID:WILD_APRICOT_EVENT_3669675_SESSION_1
DTSTART:20200214T130000Z
DTEND:20200216T130000Z
SUMMARY:2020 Garagistic BMW Driver's Cup - Round 1
LOCATION:Sandown International Raceway
DESCRIPTION:https://e30racing.com.au/event-3669675\n\n\n2020 Garagistic BMW Driver's Cup - Round 1\n     \nSandown International Raceway\n    \n\n      \n15-16 FEBRUARY 2020\n    Information has now been sent to participants in the Event. Please check that you have received information about ID pass collection\, your racing number\, garage/carport etc.\n    Please ensure you are familiar with the Race Meeting documentation\, as well as E30 Racing's Technical Specifications and Standards/Eligibility Requirements.\n    Further Regulations\n    Supplementary Regulations\n    Racing Schedule\n    Friday Practice Schedule\n    Paddock Map\n    \n\n    \n\n 
DTSTAMP:20260424T171655Z
END:VEVENT
END:VCALENDAR
