BEGIN:VCALENDAR
VERSION:2.0
METHOD:PUBLISH
BEGIN:VEVENT
UID:WILD_APRICOT_EVENT_3669649_SESSION_1
DTSTART:20200110T130000Z
DTEND:20200111T130000Z
SUMMARY:2020 Component Sealing and Motorsport Australia Inspection Day
LOCATION:Makulu Vehicle Storage\, 5 Ebden St\, Moorabbin VIC 3189
DESCRIPTION:https://e30racing.com.au/event-3669649\n\nCome down to E30 Racing supporters Makulu Vehicle Storage on Saturday\, 11 January 2020\, to ensure your car has all component seals in place and undergoes a pre-season Motorsport Australia inspection.\n  Please register your attendance\, and let us know if any crew/helpers are coming\, for catering purposes.\n  Cost: $30 per car (to cover cost of Motorsport Australia Scrutineer)\n  Further details will be provided closer to the date.\n  If you have any technical queries in the meantime\, or need to make alternative arrangements for sealing\, please do not hesitate to contact E30 Racing's Technical Officer\, Brian Bourke.\n  \n\n  \n\n
DTSTAMP:20260424T171547Z
END:VEVENT
END:VCALENDAR
