BEGIN:VCALENDAR
VERSION:2.0
METHOD:PUBLISH
BEGIN:VEVENT
UID:WILD_APRICOT_EVENT_3622634_SESSION_1
DTSTART:20191207T070000Z
DTEND:20191207T120000Z
SUMMARY:2019 End of Year Presentation
LOCATION:Terminus Hotel\, 492 Queens Pde\, North Fitzroy VIC 3168
DESCRIPTION:https://e30racing.com.au/event-3622634\n\nPlease join us to celebrate our 2019 season at our End of Year Presentation event!\n  Partners\, teams\, and guests welcome.\n  Pricing: $60 per head for a three-course meal\, with drinks at bar prices.\n  \n\n
DTSTAMP:20260424T171817Z
END:VEVENT
END:VCALENDAR
