BEGIN:VCALENDAR
VERSION:2.0
METHOD:PUBLISH
BEGIN:VEVENT
UID:WILD_APRICOT_EVENT_3425318_SESSION_1
DTSTART:20191119T083000Z
DTEND:20191119T100000Z
SUMMARY:2019 E30 Racing Annual General Meeting
LOCATION:Shannons\, 40 Corporate Drive\, Heatherton VIC
DESCRIPTION:https://e30racing.com.au/event-3425318\n\n\n\n  The 2019 AGM for E30 Racing Inc. will be held at Shannons Showroom Boardroom on Tuesday\, 19 November 2019 at 7:30pm.\n  Official Notice of 2019 AGM\n  Nomination for Election to 2020 Committee Form\n  Proxy voting form\n
DTSTAMP:20260424T171531Z
END:VEVENT
END:VCALENDAR
