BEGIN:VCALENDAR
VERSION:2.0
METHOD:PUBLISH
BEGIN:VEVENT
UID:WILD_APRICOT_EVENT_3221956_SESSION_1
DTSTART:20191018T130000Z
DTEND:20191020T130000Z
SUMMARY:2019 Garagistic BMW Driver's Cup - Round 6
LOCATION:Winton Motor Raceway
DESCRIPTION:https://e30racing.com.au/event-3221956\n\n\n2019 Garagistic BMW Driver's Cup - Round 6\n     \nWinton Motor Raceway - Enduro\n    \n\n      \n19-20 October 2019\n    Entries are open for our final round of the 2019 Garagistic BMW Driver's Cup Championship!\n    Visit the Winton Raceway Competitor Entry page to read the Supplementary Regulations and enter the race and (optional) Friday practice and garage/carport hire.\n    This is our eagerly awaited Enduro round - we've lined up a challenging weekend of E30 Racing to conclude our 2019 season and decide the BMW Driver's Cup Championship: a one-hour endurance race on Saturday after Qualifying\, and another one-hour endurance race on Sunday after a morning warm-up session.\n    Further Regulations\n    Pit Lane Disclaimer\n    Pre-check Scrutiny document\n    Pit Lane Garage List\n    Racing Schedule\n    Supplementary Regulations\n    \n\n    Want to know where things stand before the final round? Click here for our current Championship Standings.\n    Looking forward to seeing you there!\n    \n\n    \n\n    \n\n 
DTSTAMP:20260424T170940Z
END:VEVENT
END:VCALENDAR
