BEGIN:VCALENDAR
VERSION:2.0
METHOD:PUBLISH
BEGIN:VEVENT
UID:WILD_APRICOT_EVENT_3221955_SESSION_1
DTSTART:20190816T140000Z
DTEND:20190818T140000Z
SUMMARY:2019 Garagistic BMW Driver's Cup - Round 5
LOCATION:Phillip Island Grand Prix Circuit
DESCRIPTION:https://e30racing.com.au/event-3221955\n\n\n2019 Garagistic BMW Driver's Cup - Round 5\n  \n     \nPhillip Island - August Access\n\n      \n\n\n    \n17-18 August 2019\n    Entries are still open for Round 5 at Phillip Island (and the Access 111 Enduro for an additional $100)\n   PIARC Media Release\nEntry is via the CAMS Event Entry portal.\n        Please read the Supplementary Regulations.\n    Further Regs have now been released for your review.\n    Also available for your reference: Schedule and August Access Program\n    \n\n    E30 Racing will invoice you for the race weekend ($450) plus garage cost ($400 per two-car garage).\n    Please let us know if you would like a garage/shed.\n    Friday practice must be entered separately\, by submitting this entry form. Enter in advance for the reduced price!\n    Race Fuels order form (if required).\n    We look forward to seeing you there!\n    \n\n 
DTSTAMP:20260424T173818Z
END:VEVENT
END:VCALENDAR
