BEGIN:VCALENDAR
VERSION:2.0
METHOD:PUBLISH
BEGIN:VEVENT
UID:WILD_APRICOT_EVENT_3221951_SESSION_1
DTSTART:20190620T140000Z
DTEND:20190623T140000Z
SUMMARY:2019 Garagistic BMW Driver's Cup - Round 3
LOCATION:The Bend Motorsport Park
DESCRIPTION:https://e30racing.com.au/event-3221951\n\n\n2019 Garagistic BMW Driver's Cup - Round 3\n  \n     \n'The Bend' Motorsport Park\n   Tailem Bend\, SA (AMRS)\n      \n\n\n    \n21-23 June 2019\n        \n\n    \n    \n\n    Entry Form \n    Supplementary Regulations\n    Further Regulations\n    Pre-Race Inspection Form\n    Schedule\n    The Bend Map\n    Pricing:\n    Event Entry incl Friday Practice: $650 ($100 late fee after 29 May)\n    Carports $100 - we are in northern carports 19-24 and southern carports 25-27 (see attached map above)\n    Payments to be made to E30 Racing (we will invoice you shortly).\n    Document check and collection of wristbands etc will be conducted by a member of the E30 Racing Committee on behalf of entrants.\n    \n\n    \n\n 
DTSTAMP:20260424T171747Z
END:VEVENT
END:VCALENDAR
