BEGIN:VCALENDAR
VERSION:2.0
METHOD:PUBLISH
BEGIN:VEVENT
UID:WILD_APRICOT_EVENT_3219044_SESSION_1
DTSTART:20190503T140000Z
DTEND:20190505T140000Z
SUMMARY:2019 Garagistic BMW Driver's Cup - Round 2
LOCATION:Phillip Island Grand Prix Circuit
DESCRIPTION:https://e30racing.com.au/event-3219044\n\n\n2019 Garagistic BMW Driver's Cup - Round 2\n  \n       \nPhillip Island Grand Prix Circuit (VSRC)\n    \n4-5 May 2019\n    Round 2 of the 2019 Garagistic BMW Driver's Cup will be held at Phillip Island on 4-5 May 2019.\n          \n       \n\n    Further details will be announced as they become available.\n    \n\n      \n\n 
DTSTAMP:20260424T170949Z
END:VEVENT
END:VCALENDAR
