BEGIN:VCALENDAR
VERSION:2.0
METHOD:PUBLISH
BEGIN:VEVENT
UID:WILD_APRICOT_EVENT_3169538_SESSION_1
DTSTART:20190307T130000Z
DTEND:20190310T130000Z
SUMMARY:2019 Garagistic BMW Driver's Cup - Round 1
LOCATION:Winton Motor Raceway
DESCRIPTION:https://e30racing.com.au/event-3169538\n\n\n2019 Garagistic BMW Driver's Cup - Round 1\n  \n     \nWinton Motor Raceway (AMRS)\n      \n8-10 March 2019\n        Round 1 of the 2019 Garagistic BMW Driver's Cup will be held as part of the opening round of the Australian Motor Racing Series\, at Winton Raceway\, on 9-10 March 2019 (with a practice day on Friday 8 March).\n    \n    \n\n    Documentation Released:\n    [NEW] Further Regulations\n    [NEW] Pre-Race Inspection Form (to be completed before check-in)\n    [NEW] Draft Schedule\n    Entry Form\n    Supplementary Regulations\n    Note that the cost of registration includes the dedicated Friday practice day (ie not a standard Winton Test 'n' Tune day) and a cost for TV Highlights.\n    E30 Racing will subsidise the entry fee by $150\, so entry fee will be $625 + optional carport/garage.\n    The Club will be collecting payments from members in order to pay Winton for the cost of the grid.\n    \n\n    \n\n 
DTSTAMP:20260424T171715Z
END:VEVENT
END:VCALENDAR
